BEGIN:VCALENDAR
VERSION:2.0
PRODID:-//HANDS Institute of Development Studies - ECPv6.15.17.1//NONSGML v1.0//EN
CALSCALE:GREGORIAN
METHOD:PUBLISH
X-WR-CALNAME:HANDS Institute of Development Studies
X-ORIGINAL-URL:https://hands-ids.edu.pk/site
X-WR-CALDESC:Events for HANDS Institute of Development Studies
REFRESH-INTERVAL;VALUE=DURATION:PT1H
X-Robots-Tag:noindex
X-PUBLISHED-TTL:PT1H
BEGIN:VTIMEZONE
TZID:Asia/Karachi
BEGIN:STANDARD
TZOFFSETFROM:+0500
TZOFFSETTO:+0500
TZNAME:PKT
DTSTART:20250101T000000
END:STANDARD
END:VTIMEZONE
BEGIN:VEVENT
DTSTART;VALUE=DATE:20260501
DTEND;VALUE=DATE:20260502
DTSTAMP:20260424T155428
CREATED:20240820T102743Z
LAST-MODIFIED:20260324T082146Z
UID:8462-1777593600-1777679999@hands-ids.edu.pk
SUMMARY:Labour Day 2026
DESCRIPTION:About The Event				\n				\n									Join us for the Future Minds Symposium\, a thought-provoking educational event designed to inspire and empower individuals to navigate the challenges and opportunities of tomorrow’s world. This symposium brings together leading experts\, visionaries\, and innovators from various fields to explore cutting-edge ideas and share insights on shaping the future.								\n				\n		\n				\n							\n\n						\n				\n								\n			\n			\n						\n\n									\n						\n							Interactive Workshops:						\n					 \n				\n									\n						Connect with like-minded individuals\, professionals\, and mentors. Build a network that will support your personal and professional growth\, fostering collaboration and idea exchange.					 \n				\n			\n			\n		\n						\n				\n							\n\n						\n				\n								\n			\n			\n						\n\n									\n						\n							INetworking Opportunities:						\n					 \n				\n									\n						Hear from renowned thought leaders who will delve into topics such as artificial intelligence\, sustainability\, and the future of work. Gain valuable perspectives to help you thrive.					 \n				\n			\n			\n		\n						\n				\n							\n\n						\n				\n								\n			\n			\n						\n\n									\n						\n							Networking Opportunities:						\n					 \n				\n									\n						Hear from renowned thought leaders who will delve into topics such as artificial intelligence\, sustainability\, and the future of work. Gain valuable perspectives.					 \n				\n			\n			\n		\n						\n				\n							\n\n						\n				\n								\n			\n			\n						\n\n									\n						\n							Registration:						\n					 \n				\n									\n						Secure your spot today and be part of the Future Minds Symposium. Early bird registration is now open at www.Unipix Don't miss this opportunity to gain valuable insights.					 \n				\n			\n			\n		\n						\n				\n				\n				\n		\n		\n				\n					INFORMATION				\n				\n				\n					\n	\n	Date & Time:	\n			May 28\, 2026\n\n		\n\n\n	\n				\n				\n				\n				\n					\n	Cost:\nFree 				\n				\n				\n				\n					\n	\n\n	Categories:	\n		Chemistry\, Computer Science\, Social Science	\n\n				\n				\n				\n				\n					\n	\n	Website:	\n	event.unipix.com\n\n				\n				\n				\n		\n		\n				\n				\n					\n	\n	Organizer\n	Assistant Teacher\n	\n	\n\n	Phone:\n					\n			-254 457 658			\n	 \n\n\n	\n\n	Website:View Organizer Website \n\n\n	\n	Email:\n					\n			organize@info.com			\n	 \n\n\n\n				\n				\n				\n				\n		\n				\n					VANUE				\n				\n				\n					\n				\n				\n	\n	HANDS Institute of Development Studies\n	\n	Address:\n	\n\nHANDS-IDS\, Plot#.158\, Gadap Road\, Karachi – Hyderabad Motorway\, off M-9\, near Baqai Medical Univers\n	\n		\n		Karachi\,\n\n	Sindh\n\n	75340\n\n	Pakistan\n\n\n\n\n	+ Google Map \n\n\n	\n	Phone:\n					\n			03043936001			\n	 \n\n\n	\n	Website:\n	View Venue Website \n\n\n\n	\n\n\n\n		\n	\n				\n				\n				\n				\n				\n					\n				\n		\n					\n		\n		\n				\n					Event Speakers				\n				\n				\n		\n		\n				\n					Rick ZonsonAssistant Teacher 				\n				\n							\n							\n					\n						Facebook-f\n											\n				\n							\n					\n						Twitter\n											\n				\n							\n					\n						Instagram\n											\n				\n							\n					\n						Rt-linkedin-in\n											\n				\n					\n						\n				\n		\n				\n					Thomas FredTeacher 				\n				\n							\n							\n					\n						Facebook-f\n											\n				\n							\n					\n						Twitter\n											\n				\n							\n					\n						Instagram\n											\n				\n							\n					\n						Rt-linkedin-in\n											\n				\n					\n						\n				\n		\n				\n					Albert MackHead Teacher 				\n				\n							\n							\n					\n						Facebook-f\n											\n				\n							\n					\n						Twitter\n											\n				\n							\n					\n						Instagram\n											\n				\n							\n					\n						Rt-linkedin-in\n											\n				\n					\n						\n				\n		\n				\n					Micheal AlfredAssistant Teacher 				\n				\n							\n							\n					\n						Facebook-f\n											\n				\n							\n					\n						Twitter\n											\n				\n							\n					\n						Instagram\n											\n				\n							\n					\n						Rt-linkedin-in\n											\n				\n					\n						\n				\n				\n		\n				\n				\n					           \n       \n                  \n            \n            Related Event     \n\n                            \n                    \n        \n            					\n                \n                                    \n                \n                    \n                        \n							\n								\n								\n							\n                            May 1\, 2026\n                        \n                        \n							\n							\n                            9:02 am\n                        \n                    \n                    \n                                                Labour Day 2026\n                    \n                \n                					\n				\n							\n						\n                    \n\nHANDS-IDS\, Plot#.158\, Gadap Road\, Karachi – Hyderabad Motorway\, off M-9\, near Baqai Medical Univers\n	\n		\n		Karachi\,\n\n	Sindh\n\n	75340\n\n	Pakistan
URL:https://hands-ids.edu.pk/site/event/cultural-exchange-building-global-connections-through-language-and-arts/
LOCATION:HANDS Institute of Development Studies\, HANDS-IDS\, Plot#.158\, Gadap Road\, Karachi – Hyderabad Motorway\, off M-9\, near Baqai Medical Univers\, Karachi\, Sindh\, 75340\, Pakistan
CATEGORIES:Biology,Computer Science,Mathematics,Social Science
ATTACH;FMTTYPE=image/webp:https://hands-ids.edu.pk/site/wp-content/uploads/2024/08/group_626.webp
ORGANIZER;CN="Assistant Teacher":MAILTO:organize@info.com
END:VEVENT
END:VCALENDAR